BEGIN:VCALENDAR
VERSION:2.0
PRODID:-//Lean Business Ireland - ECPv6.15.12.2//NONSGML v1.0//EN
CALSCALE:GREGORIAN
METHOD:PUBLISH
X-ORIGINAL-URL:https://www.leanbusinessireland.ie
X-WR-CALDESC:Events for Lean Business Ireland
REFRESH-INTERVAL;VALUE=DURATION:PT1H
X-Robots-Tag:noindex
X-PUBLISHED-TTL:PT1H
BEGIN:VTIMEZONE
TZID:Europe/Dublin
BEGIN:STANDARD
TZOFFSETFROM:+0000
TZOFFSETTO:+0100
TZNAME:IST
DTSTART:20210328T010000
END:STANDARD
BEGIN:DAYLIGHT
TZOFFSETFROM:+0100
TZOFFSETTO:+0000
TZNAME:GMT
DTSTART:20211031T010000
END:DAYLIGHT
BEGIN:STANDARD
TZOFFSETFROM:+0000
TZOFFSETTO:+0100
TZNAME:IST
DTSTART:20220327T010000
END:STANDARD
BEGIN:DAYLIGHT
TZOFFSETFROM:+0100
TZOFFSETTO:+0000
TZNAME:GMT
DTSTART:20221030T010000
END:DAYLIGHT
BEGIN:STANDARD
TZOFFSETFROM:+0000
TZOFFSETTO:+0100
TZNAME:IST
DTSTART:20230326T010000
END:STANDARD
BEGIN:DAYLIGHT
TZOFFSETFROM:+0100
TZOFFSETTO:+0000
TZNAME:GMT
DTSTART:20231029T010000
END:DAYLIGHT
END:VTIMEZONE
BEGIN:VEVENT
DTSTART;TZID=Europe/Dublin:20220405T110000
DTEND;TZID=Europe/Dublin:20220405T120000
DTSTAMP:20260425T211045
CREATED:20220310T190049Z
LAST-MODIFIED:20220310T193047Z
UID:23892-1649156400-1649160000@www.leanbusinessireland.ie
SUMMARY:OEE & The Hidden Factory
DESCRIPTION:[vc_row type=”full_width_background” full_screen_row_position=”middle” bg_color=”#03a9f4″ scene_position=”center” text_color=”light” text_align=”left” top_padding=”4%” bottom_padding=”4%” overlay_strength=”0.3″][vc_column centered_text=”true” column_padding=”no-extra-padding” column_padding_position=”all” background_color_opacity=”1″ background_hover_color_opacity=”1″ column_shadow=”none” width=”1/1″ tablet_text_alignment=”default” phone_text_alignment=”default” column_border_width=”none” column_border_style=”solid”][vc_row_inner column_margin=”default” text_align=”left”][vc_column_inner enable_animation=”true” animation=”fade-in-from-bottom” column_padding=”no-extra-padding” column_padding_position=”all” background_color_opacity=”1″ width=”1/1″ column_border_width=”none” column_border_style=”solid”][vc_custom_heading text=”Midlands Lean Network” font_container=”tag:h5|font_size:18|text_align:center|color:%23ffffff|line_height:24px” google_fonts=”font_family:Roboto%3A100%2C100italic%2C300%2C300italic%2Cregular%2Citalic%2C500%2C500italic%2C700%2C700italic%2C900%2C900italic|font_style:900%20bold%20regular%3A900%3Anormal”][/vc_column_inner][/vc_row_inner][vc_row_inner column_margin=”default” text_align=”left”][vc_column_inner enable_animation=”true” animation=”fade-in-from-bottom” column_padding=”no-extra-padding” column_padding_position=”all” background_color_opacity=”1″ width=”1/1″ column_border_width=”none” column_border_style=”solid” delay=”50″][vc_column_text css=”.vc_custom_1645704351111{margin-top: -8px !important;margin-bottom: -8px !important;}”] \nOEE & The Hidden Factory\n[/vc_column_text][/vc_column_inner][/vc_row_inner] \nThis event is organised by the Midlands Lean Network and aims to provide an opportunity for practitioners\, business owners\, beginners\, and enthusiasts to Learn\, Share\, & Network. All businesses with an interest in Lean and Operational Excellence are welcome. \nJoin Billy Creavin\, Operational Excellence and Sustainability Manager at Alkermes Pharma Ireland Limited as he shares their experience with implementing OEE\, and how they automated the data collection with Irish technology partner. \nThis session will include a 25 mins presentation with Q& A followed by group discussion and networking. \nApril 5th @ 11am \n[/vc_column][/vc_row][vc_row type=”full_width_background” full_screen_row_position=”middle” scene_position=”center” text_color=”dark” text_align=”left” color_overlay=”#ffffff” overlay_strength=”1″][vc_column centered_text=”true” column_padding=”no-extra-padding” column_padding_position=”all” background_color_opacity=”1″ background_hover_color_opacity=”1″ column_shadow=”none” width=”1/1″ tablet_text_alignment=”default” phone_text_alignment=”default” column_border_width=”none” column_border_style=”solid”][divider line_type=”No Line” custom_height=”30″][vc_column_text] \nSpeakers\n \n\nBilly Creavin\nOperational Excellence and Sustainability Manager at Alkermes Pharma Ireland Limited \n\nAbout Alkermes\nAlkermes focuses on the development of innovative medicines that seek to address the unmet needs of people living with serious mental illness\, addiction\, and cancer. As a fully-integrated\, global biopharmaceutical company\, we apply our scientific expertise and proprietary technologies to develop products that are designed to make a meaningful difference in the way patients manage their disease. \nWe are inspired by some of the most pressing public health challenges of our time to help advance innovation with the potential to improve treatment options and outcomes for patients. \nBeyond our important mission of developing medicines\, we believe it is our responsibility to take a holistic approach as we seek to support patients\, caregivers\, and broader impacted communities. In this context we also work to help support and enhance the systems through which these complex diseases are treated. We are committed to patient engagement\, disease education and awareness\, and advocacy for important policies that support equitable access to quality treatment. \nHeadquartered in Dublin\, Ireland\, we have an R&D center in Waltham\, Massachusetts; a research and manufacturing facility in Athlone\, Ireland; and a manufacturing facility in Wilmington\, Ohio. \nJoin us for this event\n[/vc_column][vc_column column_padding=”no-extra-padding” column_padding_position=”all” background_color_opacity=”1″ background_hover_color_opacity=”1″ column_shadow=”none” width=”1/2″ tablet_text_alignment=”center” phone_text_alignment=”center” column_border_width=”none” column_border_style=”solid”][vc_row_inner column_margin=”default” text_align=”right”][vc_column_inner column_padding=”no-extra-padding” column_padding_position=”all” background_color_opacity=”1″ width=”1/1″ column_border_width=”none” column_border_style=”solid”][nectar_btn size=”large” button_style=”regular-tilt” button_color=”Accent-Color” icon_family=”none” url=”https://www.linkedin.com/events/6907752367585136641/about/” text=”Register Here”][/vc_column_inner][/vc_row_inner][/vc_column][/vc_row]
URL:https://www.leanbusinessireland.ie/event/oee-and-the-hidden-factory/
LOCATION:Online – Webinar
CATEGORIES:Digitalisation,Lean,Midlands Lean Network
ATTACH;FMTTYPE=image/png:https://www.leanbusinessireland.ie/wp-content/uploads/2022/03/JBB-Linked-In-Banner.png
END:VEVENT
BEGIN:VEVENT
DTSTART;TZID=Europe/Dublin:20220413T090000
DTEND;TZID=Europe/Dublin:20220413T140000
DTSTAMP:20260425T211045
CREATED:20220307T174212Z
LAST-MODIFIED:20220307T174212Z
UID:23835-1649840400-1649858400@www.leanbusinessireland.ie
SUMMARY:Transforming Data to Drive Growth
DESCRIPTION:[vc_row type=”full_width_background” full_screen_row_position=”middle” bg_color=”#03a9f4″ scene_position=”center” text_color=”light” text_align=”left” top_padding=”7%” bottom_padding=”7%” overlay_strength=”0.3″][vc_column centered_text=”true” column_padding=”no-extra-padding” column_padding_position=”all” background_color_opacity=”1″ background_hover_color_opacity=”1″ column_shadow=”none” width=”1/1″ tablet_text_alignment=”default” phone_text_alignment=”default” column_border_width=”none” column_border_style=”solid”][vc_row_inner column_margin=”default” text_align=”left”][vc_column_inner enable_animation=”true” animation=”fade-in-from-bottom” column_padding=”no-extra-padding” column_padding_position=”all” background_color_opacity=”1″ width=”1/1″ column_border_width=”none” column_border_style=”solid”][vc_custom_heading text=”Data Value Hub” font_container=”tag:h5|font_size:18|text_align:center|color:%23ffffff|line_height:24px” google_fonts=”font_family:Roboto%3A100%2C100italic%2C300%2C300italic%2Cregular%2Citalic%2C500%2C500italic%2C700%2C700italic%2C900%2C900italic|font_style:900%20bold%20regular%3A900%3Anormal”][/vc_column_inner][/vc_row_inner][vc_row_inner column_margin=”default” text_align=”left”][vc_column_inner enable_animation=”true” animation=”fade-in-from-bottom” column_padding=”no-extra-padding” column_padding_position=”all” background_color_opacity=”1″ width=”1/1″ column_border_width=”none” column_border_style=”solid” delay=”50″][vc_column_text css=”.vc_custom_1646667946024{margin-top: -8px !important;margin-bottom: -8px !important;}”] \nTransforming Data to Drive Growth\n[/vc_column_text][/vc_column_inner][/vc_row_inner][vc_row_inner column_margin=”default” text_align=”left”][vc_column_inner enable_animation=”true” animation=”fade-in-from-bottom” column_padding=”no-extra-padding” column_padding_position=”all” background_color_opacity=”1″ width=”1/1″ column_border_width=”none” column_border_style=”solid” delay=”100″][vc_custom_heading text=”This event will show you how your data\, with the help of the Data Value Hub can be transformed to grow your business” font_container=”tag:p|text_align:center|color:%23ffffff” use_theme_fonts=”yes”][nectar_animated_title heading_tag=”h6″ style=”color-strip-reveal” color=”Accent-Color” text=”April 13th @9am”][/vc_column_inner][/vc_row_inner][/vc_column][/vc_row][vc_row type=”full_width_background” full_screen_row_position=”middle” equal_height=”yes” scene_position=”center” text_color=”dark” text_align=”left” top_padding=”5%” bottom_padding=”5%” overlay_strength=”1″][vc_column enable_animation=”true” animation=”grow-in” column_padding=”no-extra-padding” column_padding_position=”all” background_color_opacity=”1″ background_hover_color_opacity=”1″ column_shadow=”none” width=”1/1″ tablet_text_alignment=”default” phone_text_alignment=”default” column_border_width=”none” column_border_style=”solid”][vc_row_inner column_margin=”default” text_align=”left”][vc_column_inner enable_animation=”true” animation=”fade-in-from-bottom” column_padding=”no-extra-padding” column_padding_position=”all” background_color_opacity=”1″ width=”1/1″ column_border_width=”none” column_border_style=”solid”][vc_column_text] \nRegister now to see how the Data Value Hub is helping organisations in the North East by applying data analytics and artificial intelligence to drive innovation\, productivity and efficiencies.\nYou’ll hear case studies\, gain insights on digital transformation\, application of data\, artificial intelligence and technical upskilling.\n[/vc_column_text][/vc_column_inner][/vc_row_inner][divider line_type=”Full Width Line” line_thickness=”1″ divider_color=”accent-color”][vc_row_inner column_margin=”default” bottom_padding=”0″ text_align=”left”][vc_column_inner enable_animation=”true” animation=”fade-in-from-bottom” column_padding=”padding-2-percent” column_padding_position=”top-bottom” background_color_opacity=”1″ width=”1/2″ column_border_width=”none” column_border_style=”solid”][nectar_icon icon_family=”iconsmind” icon_style=”default” icon_color=”Accent-Color” icon_padding=”0px” icon_iconsmind=”iconsmind-Yes” icon_size=”36″][vc_column_text css=”.vc_custom_1646668084430{padding-bottom: 10px !important;}”] \nAbout the event\n[/vc_column_text][vc_column_text css=”.vc_custom_1646668903121{padding-right: 10% !important;}”]This event will highlight the Data Value Hub achievements to date and their plans to drive innovation through digital transformation and upskilling in the North East. Leaders and experts from across enterprise will introduce and outline the supports that are available to local industries. It is also an opportunity to exchange with your peers and Data Value Hub partners.[/vc_column_text][/vc_column_inner][vc_column_inner enable_animation=”true” animation=”fade-in-from-bottom” column_padding=”padding-2-percent” column_padding_position=”top-bottom” background_color_opacity=”1″ width=”1/2″ column_border_width=”none” column_border_style=”solid” delay=”100″][nectar_icon icon_family=”iconsmind” icon_style=”default” icon_color=”Accent-Color” icon_padding=”0px” icon_iconsmind=”iconsmind-Bar-Chart” icon_size=”36″][vc_column_text css=”.vc_custom_1646668371657{padding-bottom: 10px !important;}”] \nAbout Data Value Hub\n[/vc_column_text][vc_column_text css=”.vc_custom_1646668347203{padding-right: 10% !important;}”]Data Value Hub was established in late 2020 and since then has been providing a dedicated Technology and Data based Digital Innovation facility for a wide range of enterprises across the North East region. Their vision is to realise competitive advantage for local Enterprises through the application of current and emerging technologies\, and data value exploitation.[/vc_column_text][/vc_column_inner][/vc_row_inner][divider line_type=”Full Width Line” line_thickness=”1″ divider_color=”accent-color”][divider line_type=”No Line”][divider line_type=”No Line”][vc_column_text] \nSpeakers & additional information\n[/vc_column_text][/vc_column][/vc_row][vc_row type=”in_container” full_screen_row_position=”middle” equal_height=”yes” content_placement=”top” scene_position=”center” text_color=”dark” text_align=”left” top_padding=”0″ bottom_padding=”8″ overlay_strength=”0.3″][vc_column column_padding=”no-extra-padding” column_padding_position=”all” background_color_opacity=”1″ background_hover_color_opacity=”1″ column_shadow=”none” width=”1/2″ tablet_text_alignment=”default” phone_text_alignment=”default” column_border_width=”none” column_border_style=”solid” offset=”vc_col-xs-12″][image_with_animation image_url=”23851″ alignment=”” animation=”Grow In” box_shadow=”large_depth” max_width=”100%” delay=”150″][/vc_column][vc_column column_padding=”no-extra-padding” column_padding_position=”all” background_color_opacity=”1″ background_hover_color_opacity=”1″ column_shadow=”none” width=”1/12″ tablet_text_alignment=”default” phone_text_alignment=”default” column_border_width=”none” column_border_style=”solid” offset=”vc_col-xs-12″][/vc_column][vc_column column_padding=”no-extra-padding” column_padding_position=”all” background_color_opacity=”1″ background_hover_color_opacity=”1″ column_shadow=”none” width=”5/12″ tablet_text_alignment=”default” phone_text_alignment=”default” column_border_width=”none” column_border_style=”solid” offset=”vc_col-xs-12″][vc_row_inner column_margin=”default” text_align=”left”][vc_column_inner enable_animation=”true” animation=”fade-in-from-bottom” column_padding=”no-extra-padding” column_padding_position=”all” background_color_opacity=”1″ width=”1/1″ column_border_width=”none” column_border_style=”solid” delay=”50″][nectar_icon icon_family=”fontawesome” icon_style=”default” icon_color=”Accent-Color” icon_padding=”20px” icon_fontawesome=”fa fa-calendar” icon_size=”36″][vc_custom_heading text=”Data and time:\nWed\, 13 April 2022\n09:00 – 14:00 IST” font_container=”tag:p|text_align:left|color:rgba(10%2C10%2C10%2C0.75)” use_theme_fonts=”yes” css_animation=”bottom-to-top”][/vc_column_inner][/vc_row_inner][vc_row_inner column_margin=”default” text_align=”left”][vc_column_inner enable_animation=”true” animation=”fade-in-from-bottom” column_padding=”no-extra-padding” column_padding_position=”all” background_color_opacity=”1″ width=”1/1″ column_border_width=”none” column_border_style=”solid” delay=”100″][nectar_icon icon_family=”fontawesome” icon_style=”default” icon_color=”Accent-Color” icon_padding=”20px” icon_fontawesome=”fa fa-map-marker” icon_size=”36″][vc_custom_heading text=”Location:\nNuremore Hotel & Country Club\nCarrickmacross” font_container=”tag:p|text_align:left|color:rgba(10%2C10%2C10%2C0.75)” use_theme_fonts=”yes” css_animation=”bottom-to-top”][/vc_column_inner][/vc_row_inner][/vc_column][/vc_row][vc_row type=”full_width_background” full_screen_row_position=”middle” equal_height=”yes” content_placement=”middle” bg_color=”#f4f4f4″ scene_position=”center” text_color=”dark” text_align=”left” top_padding=”80″ bottom_padding=”80″ overlay_strength=”0.3″][vc_column column_padding=”no-extra-padding” column_padding_position=”all” background_color_opacity=”1″ background_hover_color_opacity=”1″ column_shadow=”none” width=”1/2″ tablet_text_alignment=”center” phone_text_alignment=”center” column_border_width=”none” column_border_style=”solid”][vc_custom_heading text=”Join us for this event:” google_fonts=”font_family:Roboto%20Condensed%3A300%2C300italic%2Cregular%2Citalic%2C700%2C700italic|font_style:700%20bold%20regular%3A700%3Anormal”][/vc_column][vc_column column_padding=”no-extra-padding” column_padding_position=”all” background_color_opacity=”1″ background_hover_color_opacity=”1″ column_shadow=”none” width=”1/2″ tablet_text_alignment=”center” phone_text_alignment=”center” column_border_width=”none” column_border_style=”solid”][vc_row_inner column_margin=”default” text_align=”right”][vc_column_inner column_padding=”no-extra-padding” column_padding_position=”all” background_color_opacity=”1″ width=”1/1″ column_border_width=”none” column_border_style=”solid”][nectar_btn size=”large” button_style=”regular-tilt” button_color=”Accent-Color” icon_family=”none” url=”https://www.eventbrite.ie/e/transforming-data-to-drive-growth-registration-274458331257″ text=”Register Here”][/vc_column_inner][/vc_row_inner][/vc_column][/vc_row]
URL:https://www.leanbusinessireland.ie/event/transforming-data-to-drive-growth/
LOCATION:Nuremore Hotel & Country Club
CATEGORIES:Data Analytics,Digitalisation
ATTACH;FMTTYPE=image/png:https://www.leanbusinessireland.ie/wp-content/uploads/2022/03/LBI-Event-Background-Image555.png
END:VEVENT
END:VCALENDAR